BEGIN:VCALENDAR
VERSION:2.0
PRODID:-//Capital &amp; Co. Real Estate/EPL//NONSGML v1.0//EN
METHOD:PUBLISH
BEGIN:VEVENT
DTSTART:20200227T180000
DTEND:20200227T183000
LOCATION:58 Mackenzie Drive WOLLERT, VIC 3750
URL:https://capitalandco.com.au/property/wollert-vic-3750-21659866/
TRANSP:OPAQUE
SEQUENCE:0
UID:20381582967938
DTSTAMP:20200229T091858Z
SUMMARY:Home Open - Modern Family Living
DESCRIPTION:Welcome to new age contemporary family living combining stunning indoor- Outdoor Area perfect for entertaining family and friends for years to come. Designed and built for family to live in comfort.\nA wide double door entrance with a modern faade flows on to a spacious living area at the front followed by a generous sized master bedroom with ensuite and walk-in wardrobe for comfort and luxury. Additional 3 bedrooms are spacious and comprise of built in wardrobes. The Impressive designer kitchen consists of 900 mm appliances\, dishwasher\, stone benchtop with huge walk in pantry with abundance of storage space ideal for any aspiring chef in the family \, overlooking expansive open-plan family/dining area leading to backyard.\n\nOther highlights include Evaporate cooling & heating\, stone benchtops throughout\, large laundry with ample storage space\, down lights\, intercom and double garage (r/c) with internal access.\nConveniently located close to newly built shopping village\, cafes\, local primary and secondary schools\, child care\, leisure centre\, public transport\, local health & medical facilities\, Epping plaza\, Epping train station and easy access to freeway.
PRIORITY:1
CLASS:PUBLIC
BEGIN:VALARM
TRIGGER:-PT10080M
ACTION:DISPLAY
DESCRIPTION:Reminder
END:VALARM
END:VEVENT
END:VCALENDAR
