BEGIN:VCALENDAR
VERSION:2.0
PRODID:-//Capital &amp; Co. Real Estate/EPL//NONSGML v1.0//EN
METHOD:PUBLISH
BEGIN:VEVENT
DTSTART:20200227T183000
DTEND:20200227T190000
LOCATION:12 Dodson Way KALKALLO, VIC 3064
URL:https://capitalandco.com.au/property/kalkallo-vic-3064-21243696/
TRANSP:OPAQUE
SEQUENCE:0
UID:9131582967991
DTSTAMP:20200229T091951Z
SUMMARY:Home Open - Simonds Perfect Family Home
DESCRIPTION:This 4 bedroom single-level stunner built by Simonds's Homes showcases the unmatched quality offered by this award winning builder. With a perfectly laid out floor plan\, this brand new house will feel like a home the moment you step foot into it.\n\n3 generous bedrooms with BIR\, and a huge master bedroom with WIR and beautiful en-suite will ensure plenty of room for a growing family\, as will the large lounge\, family and meals areas. With quality at every turn\, Simonds has made sure to impress the future owners of this house.\n\nAdd to this the perfectly laid out kitchen and quality appliances / fittings\, generous laundry and double garage\, nothing further is needed for the growing family. Just minutes drive from schools\, shopping centers\, childcare centers and much more\, you must book an inspection of this home to avoid disappointment!\n\nOther features include:\n-Double front doors\n-Heating\n-Down lights\n-Open plan living and dining\n-2 livings\n-Huge backyard\n\nImages are for representation purpose only.\n\n***PHOTO IDENTIFICATION IS REQUIRED FOR ALL INSPECTIONS***\n\nDisclaimer: Every precaution has been taken to establish the accuracy of the above information\, but it does not constitute any representation by the vendor or agent.
PRIORITY:1
CLASS:PUBLIC
BEGIN:VALARM
TRIGGER:-PT10080M
ACTION:DISPLAY
DESCRIPTION:Reminder
END:VALARM
END:VEVENT
END:VCALENDAR
