BEGIN:VCALENDAR
VERSION:2.0
PRODID:-//Capital &amp; Co. Real Estate/EPL//NONSGML v1.0//EN
METHOD:PUBLISH
BEGIN:VEVENT
DTSTART:20200229T140000
DTEND:20200229T143000
LOCATION:28 Retlaw Road MICKLEHAM, VIC 3064
URL:https://capitalandco.com.au/property/mickleham-vic-3064-21740597/
TRANSP:OPAQUE
SEQUENCE:0
UID:20681582967862
DTSTAMP:20200229T091742Z
SUMMARY:Home Open - Character and Charm With Modern Style
DESCRIPTION:Found in a fantastic location in the popular Annadale Estate\, this pristine home offers generous living space and a convenient lifestyle. Live life to the max\, relish in quality family time and enjoy relaxing in this amazing completed home.\n\nWith modern facades and colour pallets that are matched to premium lots in estates within close proximity\, this property is situated nearby existing lifestyle amenities which also maximises it's leasing potential.\n\nComprising of 4 stunning bedrooms\, all complete with ample storage and a sparkling central bathroom. The large master bedroom features a generous walk-in-robe and impressive ensuite.\n\nCleverly designed living spaces provide the ultimate in family flexibility including a expansive open-plan family/dining area complemented by a gourmet kitchen complete with dishwasher\, ample cupboard space. \n\nDucted heating/cooling\, alarm system\, camera system & efficient LED lighting all add to the appeal\, along with a garden Shed \, soft-close cabinetry & stone benchtop in the kitchen.\nSet in easy care landscaped gardens.\n\n***PHOTO IDENTIFICATION IS REQUIRED FOR ALL INSPECTIONS***\n\nDisclaimer: Every precaution has been taken to establish the accuracy of the above information\, but it does not constitute any representation by the vendor or agent.
PRIORITY:1
CLASS:PUBLIC
BEGIN:VALARM
TRIGGER:-PT10080M
ACTION:DISPLAY
DESCRIPTION:Reminder
END:VALARM
END:VEVENT
END:VCALENDAR
